BEGIN:VCALENDAR
VERSION:2.0
PRODID:-//Peach New Media//Web Event Information//EN
METHOD:REQUEST
BEGIN:VEVENT
UID:20260423T022156-1376632369@peachnewmedia.com
DTSTAMP:20260423T022156
DTSTART:20260626T170000Z
DURATION:PT60M
SUMMARY:LIVE REPLAY: How Ethics Rules Apply to Lawyers Outside of Law Practice (Live Audio Streaming)
DESCRIPTION: Click here for a full description of this event: http://isb.fastcle.com/store/seminar/seminar.php?seminar=215081
ORGANIZER;CN=Idaho State Bar:MAILTO:noreply@peachnewmedia.com
END:VEVENT
END:VCALENDAR
